BEGIN:VCALENDAR
VERSION:2.0
PRODID:SchoolNow
CALSCALE:GREGORIAN
BEGIN:VEVENT
UID:5ff0dc66-0920-11f1-a82d-0264f7bacfb5
DTSTAMP:20260421T130510Z
SUMMARY:NVCI Refresher Training
LOCATION:TBD
URL;VALUE=URI:https://www.nsseo.org/professional-learning/calendar/8855327/
 nvci-refresher-training
DTSTART:20260804T173000Z
DTEND:20260804T213000Z
END:VEVENT
END:VCALENDAR
