BEGIN:VCALENDAR
VERSION:2.0
PRODID:SchoolNow
CALSCALE:GREGORIAN
BEGIN:VEVENT
UID:5ff0ded2-0920-11f1-b090-0264f7bacfb5
DTSTAMP:20260421T130510Z
SUMMARY:NVCI Refresher Training
LOCATION:TBD
URL;VALUE=URI:https://www.nsseo.org/professional-learning/calendar/8855328/
 nvci-refresher-training
DTSTART:20260623T130000Z
DTEND:20260623T170000Z
END:VEVENT
END:VCALENDAR
