BEGIN:VCALENDAR
VERSION:2.0
PRODID:SchoolNow
CALSCALE:GREGORIAN
BEGIN:VEVENT
UID:5ff0e094-0920-11f1-99ad-0264f7bacfb5
DTSTAMP:20260421T130510Z
SUMMARY:NVCI Refresher Training
LOCATION:TBD
URL;VALUE=URI:https://www.nsseo.org/professional-learning/calendar/8855329/
 nvci-refresher-training
DTSTART:20260803T163000Z
DTEND:20260803T203000Z
END:VEVENT
END:VCALENDAR
