BEGIN:VCALENDAR
VERSION:2.0
PRODID:SchoolNow
CALSCALE:GREGORIAN
BEGIN:VEVENT
UID:601c1cf0-0920-11f1-88b8-0264f7bacfb5
DTSTAMP:20260421T130510Z
SUMMARY:Creating Trauma Informed Classrooms
LOCATION:TBD
URL;VALUE=URI:https://www.nsseo.org/professional-learning/calendar/8855330/
 creating-trauma-informed-classrooms
DTSTART:20260623T173000Z
DTEND:20260623T213000Z
END:VEVENT
END:VCALENDAR
