BEGIN:VCALENDAR
VERSION:2.0
PRODID:SchoolNow
CALSCALE:GREGORIAN
BEGIN:VEVENT
UID:601c2074-0920-11f1-b004-0264f7bacfb5
DTSTAMP:20260421T130510Z
SUMMARY:NVCI Initial Training Day 2
LOCATION:TBD
URL;VALUE=URI:https://www.nsseo.org/professional-learning/calendar/8855331/
 nvci-initial-training-day-2
DTSTART:20260806T133000Z
DTEND:20260806T153000Z
END:VEVENT
END:VCALENDAR
