BEGIN:VCALENDAR
VERSION:2.0
PRODID:SchoolNow
CALSCALE:GREGORIAN
BEGIN:VEVENT
UID:180bf0cc-0eb4-11f1-820a-0a58a9feac02
DTSTAMP:20260421T130510Z
SUMMARY:Building Your Next Equals Lesson
LOCATION:Kirk School\, 520 S Plum Grove Rd\, Palatine\, IL 60067\, USA
URL;VALUE=URI:https://www.nsseo.org/professional-learning/calendar/8862839/
 building-your-next-equals-lesson
DTSTART:20260224T204500Z
DTEND:20260224T220000Z
END:VEVENT
END:VCALENDAR
