BEGIN:VCALENDAR
VERSION:2.0
PRODID:SchoolNow
CALSCALE:GREGORIAN
BEGIN:VEVENT
UID:efc788b4-11e3-11f1-b291-0232d99a37e9
DTSTAMP:20260421T130510Z
SUMMARY:Teachtown Materials Organization
LOCATION:Kirk School\, 520 S Plum Grove Rd\, Palatine\, IL 60067\, USA
URL;VALUE=URI:https://www.nsseo.org/professional-learning/calendar/8869720/
 teachtown-materials-organization
DTSTART:20260224T204500Z
DTEND:20260224T220000Z
END:VEVENT
END:VCALENDAR
