BEGIN:VCALENDAR
VERSION:2.0
PRODID:SchoolNow
CALSCALE:GREGORIAN
BEGIN:VEVENT
UID:a96454c2-1744-11f1-af8a-0a58a9feac02
DTSTAMP:20260421T130510Z
SUMMARY:AAC Immersion Experience - Kirk School
LOCATION:Kirk School\, 520 S Plum Grove Rd\, Palatine\, IL 60067\, USA
URL;VALUE=URI:https://www.nsseo.org/professional-learning/calendar/8888220/
 aac-immersion-experience-kirk-school
DTSTART:20260413T130000Z
DTEND:20260413T160000Z
END:VEVENT
END:VCALENDAR
