BEGIN:VCALENDAR
VERSION:2.0
PRODID:SchoolNow
CALSCALE:GREGORIAN
BEGIN:VEVENT
UID:251b8d88-216d-11f1-90f5-0222ddbd446b
DTSTAMP:20260421T130510Z
SUMMARY:Kirk School Improvement Day
LOCATION:Kirk School\, 520 S Plum Grove Rd\, Palatine\, IL 60067\, USA
URL;VALUE=URI:https://www.nsseo.org/professional-learning/calendar/8922898/
 kirk-school-improvement-day
DTSTART:20260413T133000Z
DTEND:20260413T203000Z
END:VEVENT
END:VCALENDAR
