BEGIN:VCALENDAR
VERSION:2.0
PRODID:SchoolNow
CALSCALE:GREGORIAN
BEGIN:VEVENT
UID:251b91ac-216d-11f1-a990-0222ddbd446b
DTSTAMP:20260421T070010Z
SUMMARY:Timber Ridge School Improvement Day
LOCATION:NSSEO-Northwest Suburban Special Education Organization: Timber Ri
 dge\, 201 S Evanston Ave\, Arlington Heights\, IL 60004\, USA
URL;VALUE=URI:https://www.nsseo.org/professional-learning/calendar/8922899/
 timber-ridge-school-improvement-day
DTSTART:20260413T133000Z
DTEND:20260413T203000Z
END:VEVENT
END:VCALENDAR
