BEGIN:VCALENDAR
VERSION:2.0
PRODID:SchoolNow
CALSCALE:GREGORIAN
BEGIN:VEVENT
UID:251b96de-216d-11f1-a1d5-0222ddbd446b
DTSTAMP:20260421T130510Z
SUMMARY:Miner School Improvement Day
LOCATION:Miner School\, 1101 E Miner St\, Arlington Heights\, IL 60004\, US
 A
URL;VALUE=URI:https://www.nsseo.org/professional-learning/calendar/8922900/
 miner-school-improvement-day
DTSTART:20260413T133000Z
DTEND:20260413T203000Z
END:VEVENT
END:VCALENDAR
