BEGIN:VCALENDAR
VERSION:2.0
PRODID:SchoolNow
CALSCALE:GREGORIAN
BEGIN:VEVENT
UID:c06a45ba-2931-11f1-813b-0e2310baca3d
DTSTAMP:20260421T191010Z
SUMMARY:Cognitive Coaching Day 3
URL;VALUE=URI:https://www.nsseo.org/professional-learning/calendar/8947265/
 cognitive-coaching-day-3
DTSTART:20261111T143000Z
DTEND:20261111T213000Z
END:VEVENT
END:VCALENDAR
