BEGIN:VCALENDAR
VERSION:2.0
PRODID:SchoolNow
CALSCALE:GREGORIAN
BEGIN:VEVENT
UID:c06a4cfe-2931-11f1-99fd-0e2310baca3d
DTSTAMP:20260422T011510Z
SUMMARY:Cognitive Coaching Day 7
URL;VALUE=URI:https://www.nsseo.org/professional-learning/calendar/8947267/
 cognitive-coaching-day-7
DTSTART:20270309T143000Z
DTEND:20270309T213000Z
END:VEVENT
END:VCALENDAR
