BEGIN:VCALENDAR
VERSION:2.0
PRODID:SchoolNow
CALSCALE:GREGORIAN
BEGIN:VEVENT
UID:c06a4e84-2931-11f1-b57f-0e2310baca3d
DTSTAMP:20260422T011510Z
SUMMARY:Cognitive Coaching Day 5
URL;VALUE=URI:https://www.nsseo.org/professional-learning/calendar/8947268/
 cognitive-coaching-day-5
DTSTART:20270224T143000Z
DTEND:20270224T213000Z
END:VEVENT
END:VCALENDAR
