BEGIN:VCALENDAR
VERSION:2.0
PRODID:SchoolNow
CALSCALE:GREGORIAN
BEGIN:VEVENT
UID:c06a4f7e-2931-11f1-bf5a-0e2310baca3d
DTSTAMP:20260421T191010Z
SUMMARY:Cognitive Coaching Day 1
URL;VALUE=URI:https://www.nsseo.org/professional-learning/calendar/8947269/
 cognitive-coaching-day-1
DTSTART:20261022T133000Z
DTEND:20261022T203000Z
END:VEVENT
END:VCALENDAR
