BEGIN:VCALENDAR
VERSION:2.0
PRODID:SchoolNow
CALSCALE:GREGORIAN
BEGIN:VEVENT
UID:c06a50c8-2931-11f1-810c-0e2310baca3d
DTSTAMP:20260421T191010Z
SUMMARY:Cognitive Coaching Day 2
URL;VALUE=URI:https://www.nsseo.org/professional-learning/calendar/8947270/
 cognitive-coaching-day-2
DTSTART:20261023T133000Z
DTEND:20261023T203000Z
END:VEVENT
END:VCALENDAR
