BEGIN:VCALENDAR
VERSION:2.0
PRODID:SchoolNow
CALSCALE:GREGORIAN
BEGIN:VEVENT
UID:c06a5370-2931-11f1-9b90-0e2310baca3d
DTSTAMP:20260421T191010Z
SUMMARY:Cognitive Coaching Day 4
URL;VALUE=URI:https://www.nsseo.org/professional-learning/calendar/8947271/
 cognitive-coaching-day-4
DTSTART:20261112T143000Z
DTEND:20261112T213000Z
END:VEVENT
END:VCALENDAR
