BEGIN:VCALENDAR
VERSION:2.0
PRODID:SchoolNow
CALSCALE:GREGORIAN
BEGIN:VEVENT
UID:c06a558c-2931-11f1-9dc6-0e2310baca3d
DTSTAMP:20260422T011510Z
SUMMARY:Cognitive Coaching Day 6
URL;VALUE=URI:https://www.nsseo.org/professional-learning/calendar/8947272/
 cognitive-coaching-day-6
DTSTART:20270225T143000Z
DTEND:20270225T213000Z
END:VEVENT
END:VCALENDAR
