BEGIN:VCALENDAR
VERSION:2.0
PRODID:SchoolNow
CALSCALE:GREGORIAN
BEGIN:VEVENT
UID:bdcb2602-2964-11f1-9e7e-0a58a9feac02
DTSTAMP:20260421T191010Z
SUMMARY:Adaptive Schools Day 3
URL;VALUE=URI:https://www.nsseo.org/professional-learning/calendar/8948091/
 adaptive-schools-day-3
DTSTART:20270120T143000Z
DTEND:20270120T213000Z
END:VEVENT
END:VCALENDAR
