BEGIN:VCALENDAR
VERSION:2.0
PRODID:SchoolNow
CALSCALE:GREGORIAN
BEGIN:VEVENT
UID:bdcb47d6-2964-11f1-b97a-0a58a9feac02
DTSTAMP:20260421T191010Z
SUMMARY:Advanced Adaptive Schools Day 4
URL;VALUE=URI:https://www.nsseo.org/professional-learning/calendar/8948092/
 advanced-adaptive-schools-day-4
DTSTART:20261110T143000Z
DTEND:20261110T213000Z
END:VEVENT
END:VCALENDAR
