BEGIN:VCALENDAR
VERSION:2.0
PRODID:SchoolNow
CALSCALE:GREGORIAN
BEGIN:VEVENT
UID:bdcb4a7e-2964-11f1-8652-0a58a9feac02
DTSTAMP:20260421T191010Z
SUMMARY:Adaptive Schools Day 2
URL;VALUE=URI:https://www.nsseo.org/professional-learning/calendar/8948093/
 adaptive-schools-day-2
DTSTART:20261210T143000Z
DTEND:20261210T213000Z
END:VEVENT
END:VCALENDAR
