BEGIN:VCALENDAR
VERSION:2.0
PRODID:SchoolNow
CALSCALE:GREGORIAN
BEGIN:VEVENT
UID:bdcb4bc8-2964-11f1-8455-0a58a9feac02
DTSTAMP:20260421T191010Z
SUMMARY:Adaptive Schools Day 1
URL;VALUE=URI:https://www.nsseo.org/professional-learning/calendar/8948094/
 adaptive-schools-day-1
DTSTART:20261209T143000Z
DTEND:20261209T213000Z
END:VEVENT
END:VCALENDAR
