BEGIN:VCALENDAR
VERSION:2.0
PRODID:SchoolNow
CALSCALE:GREGORIAN
BEGIN:VEVENT
UID:bdcb4dc6-2964-11f1-b31a-0a58a9feac02
DTSTAMP:20260421T191010Z
SUMMARY:Adaptive Schools Day 4
URL;VALUE=URI:https://www.nsseo.org/professional-learning/calendar/8948095/
 adaptive-schools-day-4
DTSTART:20270121T143000Z
DTEND:20270121T213000Z
END:VEVENT
END:VCALENDAR
