BEGIN:VCALENDAR
VERSION:2.0
PRODID:SchoolNow
CALSCALE:GREGORIAN
BEGIN:VEVENT
UID:bdcb4f60-2964-11f1-87d6-0a58a9feac02
DTSTAMP:20260421T191010Z
SUMMARY:Advanced Adaptive Schools Day 3
URL;VALUE=URI:https://www.nsseo.org/professional-learning/calendar/8948096/
 advanced-adaptive-schools-day-3
DTSTART:20261109T143000Z
DTEND:20261109T213000Z
END:VEVENT
END:VCALENDAR
