BEGIN:VCALENDAR
VERSION:2.0
PRODID:SchoolNow
CALSCALE:GREGORIAN
BEGIN:VEVENT
UID:bdcb52d0-2964-11f1-86ea-0a58a9feac02
DTSTAMP:20260421T191010Z
SUMMARY:Advanced Adaptive Schools Day 1
URL;VALUE=URI:https://www.nsseo.org/professional-learning/calendar/8948097/
 advanced-adaptive-schools-day-1
DTSTART:20261020T133000Z
DTEND:20261020T203000Z
END:VEVENT
END:VCALENDAR
