BEGIN:VCALENDAR
VERSION:2.0
PRODID:SchoolNow
CALSCALE:GREGORIAN
BEGIN:VEVENT
UID:bdcb56d6-2964-11f1-a009-0a58a9feac02
DTSTAMP:20260421T191010Z
SUMMARY:Advanced Adaptive Schools Day 2
URL;VALUE=URI:https://www.nsseo.org/professional-learning/calendar/8948098/
 advanced-adaptive-schools-day-2
DTSTART:20261021T133000Z
DTEND:20261021T203000Z
END:VEVENT
END:VCALENDAR
