BEGIN:VCALENDAR
VERSION:2.0
PRODID:SchoolNow
CALSCALE:GREGORIAN
BEGIN:VEVENT
UID:8c979ee0-2d2d-11f1-9615-0a58a9feac02
DTSTAMP:20260421T130510Z
SUMMARY:NSSEO New Staff NVCI Training Day 1
LOCATION:NSSEO-Northwest Suburban Special Education Organization: Timber Ri
 dge\, 201 S Evanston Ave\, Arlington Heights\, IL 60004\, USA
URL;VALUE=URI:https://www.nsseo.org/professional-learning/calendar/8960887/
 nsseo-new-staff-nvci-training-day-1
DTSTART:20260420T130000Z
DTEND:20260420T193000Z
END:VEVENT
END:VCALENDAR
