BEGIN:VCALENDAR
VERSION:2.0
PRODID:SchoolNow
CALSCALE:GREGORIAN
BEGIN:VEVENT
UID:4ed55d78-31f5-11f1-9d96-0a58a9feac02
DTSTAMP:20260421T130510Z
SUMMARY:Language Deprivation in DHH Children: What Professionals Need to Kn
 ow - Asynchronous Final Day
LOCATION:Asynchronous
URL;VALUE=URI:https://www.nsseo.org/professional-learning/calendar/8974899/
 language-deprivation-in-dhh-children-what-professionals-need-to-know-async
 hronous-final-day
DTSTART:20260630T130000Z
DTEND:20260630T170000Z
END:VEVENT
END:VCALENDAR
