BEGIN:VCALENDAR
VERSION:2.0
PRODID:SchoolNow
CALSCALE:GREGORIAN
BEGIN:VEVENT
UID:f6b6ccee-38ed-11f1-8411-0a58a9feac02
DTSTAMP:20260421T130510Z
SUMMARY:Ukeru Train the Trainer - Day 1
LOCATION:NSSEO-Northwest Suburban Special Education Organization: Timber Ri
 dge\, 201 S Evanston Ave\, Arlington Heights\, IL 60004\, USA
URL;VALUE=URI:https://www.nsseo.org/professional-learning/calendar/8995917/
 ukeru-train-the-trainer-day-1
DTSTART:20260625T130000Z
DTEND:20260625T213000Z
END:VEVENT
END:VCALENDAR
