BEGIN:VCALENDAR
VERSION:2.0
PRODID:SchoolNow
CALSCALE:GREGORIAN
BEGIN:VEVENT
UID:f6b6d0c2-38ed-11f1-870b-0a58a9feac02
DTSTAMP:20260421T130510Z
SUMMARY:Ukeru Train the Trainer - Day 2
LOCATION:NSSEO-Northwest Suburban Special Education Organization: Timber Ri
 dge\, 201 S Evanston Ave\, Arlington Heights\, IL 60004\, USA
URL;VALUE=URI:https://www.nsseo.org/professional-learning/calendar/8995918/
 ukeru-train-the-trainer-day-2
DTSTART:20260626T130000Z
DTEND:20260626T213000Z
END:VEVENT
END:VCALENDAR
