BEGIN:VCALENDAR
VERSION:2.0
PRODID:SchoolNow
CALSCALE:GREGORIAN
BEGIN:VEVENT
UID:e85c727a-39ec-11f1-81c5-0affde2f3187
DTSTAMP:20260421T130510Z
SUMMARY:Ukeru Refresher Training - NSSEO Staff Only
LOCATION:NSSEO-Northwest Suburban Special Education Organization: Timber Ri
 dge\, 201 S Evanston Ave\, Arlington Heights\, IL 60004\, USA
URL;VALUE=URI:https://www.nsseo.org/professional-learning/calendar/8998898/
 ukeru-refresher-training-nsseo-staff-only
DTSTART:20260730T133000Z
DTEND:20260730T173000Z
END:VEVENT
END:VCALENDAR
