BEGIN:VCALENDAR
VERSION:2.0
PRODID:SchoolNow
CALSCALE:GREGORIAN
BEGIN:VEVENT
UID:986461dc-4019-11f1-a8c3-0a58a9feac02
DTSTAMP:20260425T082009Z
SUMMARY:Miner School - Literacy Onboarding for New Staff: Session 7 Indepen
 dent Writing
LOCATION:Miner School\, 1101 E Miner St\, Arlington Heights\, IL 60004\, US
 A
URL;VALUE=URI:https://www.nsseo.org/professional-learning/calendar/9017153/
 miner-school-literacy-onboarding-for-new-staff-session-7-independent-writi
 ng
DTSTART:20260427T133000Z
DTEND:20260427T141500Z
END:VEVENT
END:VCALENDAR
