BEGIN:VCALENDAR
VERSION:2.0
PRODID:SchoolNow
CALSCALE:GREGORIAN
BEGIN:VEVENT
UID:7c8ea2dc-24ae-11f1-ac67-0a58a9feac02
DTSTAMP:20260421T025600Z
SUMMARY:*Last Day for Staff - Students Not in Attendance (if no emergency d
 ays are used)
URL;VALUE=URI:https://www.nsseo.org/programs/kirk-school/calendar/8933993/l
 ast-day-for-staff-students-not-in-attendance-if-no-emergency-days-are-used
DTSTART;VALUE=DATE:20270602
DTEND;VALUE=DATE:20270603
END:VEVENT
END:VCALENDAR
