BEGIN:VCALENDAR
VERSION:2.0
PRODID:SchoolNow
CALSCALE:GREGORIAN
BEGIN:VEVENT
UID:e899b010-3832-11f1-89c4-0a58a9feac02
DTSTAMP:20260421T025600Z
SUMMARY:Fire Drill
URL;VALUE=URI:https://www.nsseo.org/programs/kirk-school/calendar/8993891/f
 ire-drill
DTSTART:20260417T160000Z
DTEND:20260417T163000Z
END:VEVENT
END:VCALENDAR
