BEGIN:VCALENDAR
VERSION:2.0
PRODID:SchoolNow
CALSCALE:GREGORIAN
BEGIN:VEVENT
UID:3cd09d7a-83a6-11f0-972f-027b4da1e8b9
DTSTAMP:20260424T221104Z
SUMMARY:Teacher Appreciation Week
URL;VALUE=URI:https://www.nsseo.org/programs/miner-school/calendar/8552174/
 teacher-appreciation-week
DTSTART;VALUE=DATE:20260504
DTEND;VALUE=DATE:20260509
END:VEVENT
END:VCALENDAR
